BEGIN:VCALENDAR
VERSION:2.0
PRODID:-//wp-events-plugin.com//7.0.4//EN
TZID:America/Los_Angeles
X-WR-TIMEZONE:America/Los_Angeles
BEGIN:VEVENT
UID:1@urbansurf4kids.org
DTSTART:20181108T170000Z
DTEND:20181108T210000Z
DTSTAMP:20181023T022042Z
URL:https://urbansurf4kids.org/upcoming-events/doa-feeding-homeless-vetera
 ns/
SUMMARY:DOA - Feeding Homeless Veterans
DESCRIPTION:
END:VEVENT
END:VCALENDAR